BEGIN:VCALENDAR
VERSION:2.0
PRODID:-//Queen Anne Scouts BSA - ECPv6.15.12.2//NONSGML v1.0//EN
CALSCALE:GREGORIAN
METHOD:PUBLISH
X-WR-CALNAME:Queen Anne Scouts BSA
X-ORIGINAL-URL:https://qascouts.org
X-WR-CALDESC:Events for Queen Anne Scouts BSA
REFRESH-INTERVAL;VALUE=DURATION:PT1H
X-Robots-Tag:noindex
X-PUBLISHED-TTL:PT1H
BEGIN:VTIMEZONE
TZID:UTC
BEGIN:STANDARD
TZOFFSETFROM:+0000
TZOFFSETTO:+0000
TZNAME:UTC
DTSTART:20240101T000000
END:STANDARD
END:VTIMEZONE
BEGIN:VEVENT
DTSTART;TZID=UTC:20250616T180000
DTEND;TZID=UTC:20250616T190000
DTSTAMP:20260422T184116
CREATED:20200909T040225Z
LAST-MODIFIED:20250508T220747Z
UID:2057-1750096800-1750100400@qascouts.org
SUMMARY:Memorial Day
DESCRIPTION:Pack visits retirement and assisted living facilities / flag ceremony
URL:https://qascouts.org/event/memorial-day-2025/
LOCATION:Bethany Presbyterian\, Seattle WA\, 1818 Queen Anne Ave N\, Seattle\, WA\, 98109\, United States
CATEGORIES:Cub Scouts
END:VEVENT
END:VCALENDAR